BEGIN:VCALENDAR
VERSION:2.0
PRODID:-//Laogong Waalwijk - ECPv6.15.11//NONSGML v1.0//EN
CALSCALE:GREGORIAN
METHOD:PUBLISH
X-WR-CALNAME:Laogong Waalwijk
X-ORIGINAL-URL:https://www.laogong.nl
X-WR-CALDESC:Evenementen voor Laogong Waalwijk
REFRESH-INTERVAL;VALUE=DURATION:PT1H
X-Robots-Tag:noindex
X-PUBLISHED-TTL:PT1H
BEGIN:VTIMEZONE
TZID:Europe/Amsterdam
BEGIN:DAYLIGHT
TZOFFSETFROM:+0100
TZOFFSETTO:+0200
TZNAME:CEST
DTSTART:20220327T010000
END:DAYLIGHT
BEGIN:STANDARD
TZOFFSETFROM:+0200
TZOFFSETTO:+0100
TZNAME:CET
DTSTART:20221030T010000
END:STANDARD
BEGIN:DAYLIGHT
TZOFFSETFROM:+0100
TZOFFSETTO:+0200
TZNAME:CEST
DTSTART:20230326T010000
END:DAYLIGHT
BEGIN:STANDARD
TZOFFSETFROM:+0200
TZOFFSETTO:+0100
TZNAME:CET
DTSTART:20231029T010000
END:STANDARD
BEGIN:DAYLIGHT
TZOFFSETFROM:+0100
TZOFFSETTO:+0200
TZNAME:CEST
DTSTART:20240331T010000
END:DAYLIGHT
BEGIN:STANDARD
TZOFFSETFROM:+0200
TZOFFSETTO:+0100
TZNAME:CET
DTSTART:20241027T010000
END:STANDARD
BEGIN:DAYLIGHT
TZOFFSETFROM:+0100
TZOFFSETTO:+0200
TZNAME:CEST
DTSTART:20250330T010000
END:DAYLIGHT
BEGIN:STANDARD
TZOFFSETFROM:+0200
TZOFFSETTO:+0100
TZNAME:CET
DTSTART:20251026T010000
END:STANDARD
END:VTIMEZONE
BEGIN:VEVENT
DTSTART;TZID=Europe/Amsterdam:20230918T200000
DTEND;TZID=Europe/Amsterdam:20230918T210000
DTSTAMP:20260425T165711
CREATED:20230726T134341Z
LAST-MODIFIED:20230726T134341Z
UID:5728-1695067200-1695070800@www.laogong.nl
SUMMARY:Taichi en Qigong 1e jaars
DESCRIPTION:
URL:https://www.laogong.nl/evenement/taichi-en-qigong-1e-jaars-331/
LOCATION:Gymzaal Juliana van Stolbergschool\, Waalwijk\, Woeringenlaan 20\, Waalwijk\, Noord-Brabant\, 5144CJ\, Nederland
CATEGORIES:TAICHI EN QIGONGLES
END:VEVENT
BEGIN:VEVENT
DTSTART;TZID=Europe/Amsterdam:20230908T210000
DTEND;TZID=Europe/Amsterdam:20230908T220000
DTSTAMP:20260425T165711
CREATED:20230726T133513Z
LAST-MODIFIED:20230726T133513Z
UID:5725-1694206800-1694210400@www.laogong.nl
SUMMARY:Taichi en Qigong 4e jaars
DESCRIPTION:
URL:https://www.laogong.nl/evenement/taichi-en-qigong-4e-jaars-123/
LOCATION:Gymzaal Juliana van Stolbergschool\, Waalwijk\, Woeringenlaan 20\, Waalwijk\, Noord-Brabant\, 5144CJ\, Nederland
CATEGORIES:TAICHI EN QIGONGLES
END:VEVENT
BEGIN:VEVENT
DTSTART;TZID=Europe/Amsterdam:20230908T200000
DTEND;TZID=Europe/Amsterdam:20230908T210000
DTSTAMP:20260425T165711
CREATED:20230726T132954Z
LAST-MODIFIED:20230726T132954Z
UID:5722-1694203200-1694206800@www.laogong.nl
SUMMARY:Taichi en Qigong 3e jaars
DESCRIPTION:
URL:https://www.laogong.nl/evenement/taichi-en-qigong-3e-jaars-178/
LOCATION:Gymzaal Juliana van Stolbergschool\, Waalwijk\, Woeringenlaan 20\, Waalwijk\, Noord-Brabant\, 5144CJ\, Nederland
CATEGORIES:TAICHI EN QIGONGLES
END:VEVENT
BEGIN:VEVENT
DTSTART;TZID=Europe/Amsterdam:20230920T153000
DTEND;TZID=Europe/Amsterdam:20230920T163000
DTSTAMP:20260425T165711
CREATED:20230726T175159Z
LAST-MODIFIED:20230726T175159Z
UID:5751-1695223800-1695227400@www.laogong.nl
SUMMARY:Taichi en Qigong 2e jaars
DESCRIPTION:
URL:https://www.laogong.nl/evenement/taichi-en-qigong-2e-jaars-325/
LOCATION:Gymzaal Juliana van Stolbergschool\, Waalwijk\, Woeringenlaan 20\, Waalwijk\, Noord-Brabant\, 5144CJ\, Nederland
CATEGORIES:TAICHI EN QIGONGLES
END:VEVENT
BEGIN:VEVENT
DTSTART;TZID=Europe/Amsterdam:20230920T143000
DTEND;TZID=Europe/Amsterdam:20230920T153000
DTSTAMP:20260425T165711
CREATED:20230726T174825Z
LAST-MODIFIED:20230726T174825Z
UID:5748-1695220200-1695223800@www.laogong.nl
SUMMARY:Taichi en Qigong 1e jaars
DESCRIPTION:
URL:https://www.laogong.nl/evenement/taichi-en-qigong-1e-jaars-337/
LOCATION:Gymzaal Juliana van Stolbergschool\, Waalwijk\, Woeringenlaan 20\, Waalwijk\, Noord-Brabant\, 5144CJ\, Nederland
CATEGORIES:TAICHI EN QIGONGLES
END:VEVENT
BEGIN:VEVENT
DTSTART;TZID=Europe/Amsterdam:20230920T133000
DTEND;TZID=Europe/Amsterdam:20230920T143000
DTSTAMP:20260425T165711
CREATED:20230726T174450Z
LAST-MODIFIED:20230726T174450Z
UID:5745-1695216600-1695220200@www.laogong.nl
SUMMARY:Qigong
DESCRIPTION:
URL:https://www.laogong.nl/evenement/qigong-124/
LOCATION:Gymzaal Juliana van Stolbergschool\, Waalwijk\, Woeringenlaan 20\, Waalwijk\, Noord-Brabant\, 5144CJ\, Nederland
CATEGORIES:QIGONGLES
END:VEVENT
BEGIN:VEVENT
DTSTART;TZID=Europe/Amsterdam:20230919T210000
DTEND;TZID=Europe/Amsterdam:20230919T220000
DTSTAMP:20260425T165711
CREATED:20230726T174023Z
LAST-MODIFIED:20230726T174023Z
UID:5742-1695157200-1695160800@www.laogong.nl
SUMMARY:Taichi en Qigong 2e jaars
DESCRIPTION:
URL:https://www.laogong.nl/evenement/taichi-en-qigong-2e-jaars-324/
LOCATION:Gymzaal Juliana van Stolbergschool\, Waalwijk\, Woeringenlaan 20\, Waalwijk\, Noord-Brabant\, 5144CJ\, Nederland
CATEGORIES:TAICHI EN QIGONGLES
END:VEVENT
BEGIN:VEVENT
DTSTART;TZID=Europe/Amsterdam:20230919T200000
DTEND;TZID=Europe/Amsterdam:20230919T210000
DTSTAMP:20260425T165711
CREATED:20230726T173618Z
LAST-MODIFIED:20230726T173618Z
UID:5738-1695153600-1695157200@www.laogong.nl
SUMMARY:Taichi en Qigong 1e jaars
DESCRIPTION:
URL:https://www.laogong.nl/evenement/taichi-en-qigong-1e-jaars-336/
LOCATION:Gymzaal Juliana van Stolbergschool\, Waalwijk\, Woeringenlaan 20\, Waalwijk\, Noord-Brabant\, 5144CJ\, Nederland
CATEGORIES:TAICHI EN QIGONGLES
END:VEVENT
BEGIN:VEVENT
DTSTART;TZID=Europe/Amsterdam:20230919T160000
DTEND;TZID=Europe/Amsterdam:20230919T170000
DTSTAMP:20260425T165711
CREATED:20230726T135622Z
LAST-MODIFIED:20230726T135622Z
UID:5735-1695139200-1695142800@www.laogong.nl
SUMMARY:Taichi en Qigong 3e jaars
DESCRIPTION:
URL:https://www.laogong.nl/evenement/taichi-en-qigong-3e-jaars-179/
LOCATION:Gymzaal Juliana van Stolbergschool\, Waalwijk\, Woeringenlaan 20\, Waalwijk\, Noord-Brabant\, 5144CJ\, Nederland
CATEGORIES:TAICHI EN QIGONGLES
END:VEVENT
BEGIN:VEVENT
DTSTART;TZID=Europe/Amsterdam:20230908T210000
DTEND;TZID=Europe/Amsterdam:20230908T220000
DTSTAMP:20260425T165711
CREATED:20230726T133513Z
LAST-MODIFIED:20230726T133513Z
UID:5725-1694206800-1694210400@www.laogong.nl
SUMMARY:Taichi en Qigong 4e jaars
DESCRIPTION:
URL:https://www.laogong.nl/evenement/taichi-en-qigong-4e-jaars-123/
LOCATION:Gymzaal Juliana van Stolbergschool\, Waalwijk\, Woeringenlaan 20\, Waalwijk\, Noord-Brabant\, 5144CJ\, Nederland
CATEGORIES:TAICHI EN QIGONGLES
END:VEVENT
BEGIN:VEVENT
DTSTART;TZID=Europe/Amsterdam:20230908T200000
DTEND;TZID=Europe/Amsterdam:20230908T210000
DTSTAMP:20260425T165711
CREATED:20230726T132954Z
LAST-MODIFIED:20230726T132954Z
UID:5722-1694203200-1694206800@www.laogong.nl
SUMMARY:Taichi en Qigong 3e jaars
DESCRIPTION:
URL:https://www.laogong.nl/evenement/taichi-en-qigong-3e-jaars-178/
LOCATION:Gymzaal Juliana van Stolbergschool\, Waalwijk\, Woeringenlaan 20\, Waalwijk\, Noord-Brabant\, 5144CJ\, Nederland
CATEGORIES:TAICHI EN QIGONGLES
END:VEVENT
BEGIN:VEVENT
DTSTART;TZID=Europe/Amsterdam:20230920T153000
DTEND;TZID=Europe/Amsterdam:20230920T163000
DTSTAMP:20260425T165711
CREATED:20230726T175159Z
LAST-MODIFIED:20230726T175159Z
UID:5751-1695223800-1695227400@www.laogong.nl
SUMMARY:Taichi en Qigong 2e jaars
DESCRIPTION:
URL:https://www.laogong.nl/evenement/taichi-en-qigong-2e-jaars-325/
LOCATION:Gymzaal Juliana van Stolbergschool\, Waalwijk\, Woeringenlaan 20\, Waalwijk\, Noord-Brabant\, 5144CJ\, Nederland
CATEGORIES:TAICHI EN QIGONGLES
END:VEVENT
BEGIN:VEVENT
DTSTART;TZID=Europe/Amsterdam:20230920T143000
DTEND;TZID=Europe/Amsterdam:20230920T153000
DTSTAMP:20260425T165711
CREATED:20230726T174825Z
LAST-MODIFIED:20230726T174825Z
UID:5748-1695220200-1695223800@www.laogong.nl
SUMMARY:Taichi en Qigong 1e jaars
DESCRIPTION:
URL:https://www.laogong.nl/evenement/taichi-en-qigong-1e-jaars-337/
LOCATION:Gymzaal Juliana van Stolbergschool\, Waalwijk\, Woeringenlaan 20\, Waalwijk\, Noord-Brabant\, 5144CJ\, Nederland
CATEGORIES:TAICHI EN QIGONGLES
END:VEVENT
BEGIN:VEVENT
DTSTART;TZID=Europe/Amsterdam:20230920T133000
DTEND;TZID=Europe/Amsterdam:20230920T143000
DTSTAMP:20260425T165711
CREATED:20230726T174450Z
LAST-MODIFIED:20230726T174450Z
UID:5745-1695216600-1695220200@www.laogong.nl
SUMMARY:Qigong
DESCRIPTION:
URL:https://www.laogong.nl/evenement/qigong-124/
LOCATION:Gymzaal Juliana van Stolbergschool\, Waalwijk\, Woeringenlaan 20\, Waalwijk\, Noord-Brabant\, 5144CJ\, Nederland
CATEGORIES:QIGONGLES
END:VEVENT
BEGIN:VEVENT
DTSTART;TZID=Europe/Amsterdam:20230919T210000
DTEND;TZID=Europe/Amsterdam:20230919T220000
DTSTAMP:20260425T165711
CREATED:20230726T174023Z
LAST-MODIFIED:20230726T174023Z
UID:5742-1695157200-1695160800@www.laogong.nl
SUMMARY:Taichi en Qigong 2e jaars
DESCRIPTION:
URL:https://www.laogong.nl/evenement/taichi-en-qigong-2e-jaars-324/
LOCATION:Gymzaal Juliana van Stolbergschool\, Waalwijk\, Woeringenlaan 20\, Waalwijk\, Noord-Brabant\, 5144CJ\, Nederland
CATEGORIES:TAICHI EN QIGONGLES
END:VEVENT
BEGIN:VEVENT
DTSTART;TZID=Europe/Amsterdam:20230919T200000
DTEND;TZID=Europe/Amsterdam:20230919T210000
DTSTAMP:20260425T165711
CREATED:20230726T173618Z
LAST-MODIFIED:20230726T173618Z
UID:5738-1695153600-1695157200@www.laogong.nl
SUMMARY:Taichi en Qigong 1e jaars
DESCRIPTION:
URL:https://www.laogong.nl/evenement/taichi-en-qigong-1e-jaars-336/
LOCATION:Gymzaal Juliana van Stolbergschool\, Waalwijk\, Woeringenlaan 20\, Waalwijk\, Noord-Brabant\, 5144CJ\, Nederland
CATEGORIES:TAICHI EN QIGONGLES
END:VEVENT
BEGIN:VEVENT
DTSTART;TZID=Europe/Amsterdam:20230919T160000
DTEND;TZID=Europe/Amsterdam:20230919T170000
DTSTAMP:20260425T165711
CREATED:20230726T135622Z
LAST-MODIFIED:20230726T135622Z
UID:5735-1695139200-1695142800@www.laogong.nl
SUMMARY:Taichi en Qigong 3e jaars
DESCRIPTION:
URL:https://www.laogong.nl/evenement/taichi-en-qigong-3e-jaars-179/
LOCATION:Gymzaal Juliana van Stolbergschool\, Waalwijk\, Woeringenlaan 20\, Waalwijk\, Noord-Brabant\, 5144CJ\, Nederland
CATEGORIES:TAICHI EN QIGONGLES
END:VEVENT
BEGIN:VEVENT
DTSTART;TZID=Europe/Amsterdam:20230918T210000
DTEND;TZID=Europe/Amsterdam:20230918T220000
DTSTAMP:20260425T165711
CREATED:20230726T134923Z
LAST-MODIFIED:20230726T134923Z
UID:5731-1695070800-1695074400@www.laogong.nl
SUMMARY:Taichi en Qigong 2e jaars
DESCRIPTION:
URL:https://www.laogong.nl/evenement/taichi-en-qigong-2e-jaars-288/
LOCATION:Gymzaal Juliana van Stolbergschool\, Waalwijk\, Woeringenlaan 20\, Waalwijk\, Noord-Brabant\, 5144CJ\, Nederland
CATEGORIES:TAICHI EN QIGONGLES
END:VEVENT
BEGIN:VEVENT
DTSTART;TZID=Europe/Amsterdam:20230918T200000
DTEND;TZID=Europe/Amsterdam:20230918T210000
DTSTAMP:20260425T165711
CREATED:20230726T134341Z
LAST-MODIFIED:20230726T134341Z
UID:5728-1695067200-1695070800@www.laogong.nl
SUMMARY:Taichi en Qigong 1e jaars
DESCRIPTION:
URL:https://www.laogong.nl/evenement/taichi-en-qigong-1e-jaars-331/
LOCATION:Gymzaal Juliana van Stolbergschool\, Waalwijk\, Woeringenlaan 20\, Waalwijk\, Noord-Brabant\, 5144CJ\, Nederland
CATEGORIES:TAICHI EN QIGONGLES
END:VEVENT
BEGIN:VEVENT
DTSTART;TZID=Europe/Amsterdam:20240324T130000
DTEND;TZID=Europe/Amsterdam:20240324T140000
DTSTAMP:20260425T165711
CREATED:20230726T181216Z
LAST-MODIFIED:20230726T181216Z
UID:5776-1711285200-1711288800@www.laogong.nl
SUMMARY:KLANKONTSPANNING 2e\, 3e en 4e jaars
DESCRIPTION:
URL:https://www.laogong.nl/evenement/klankontspanning-2e-3e-en-4e-jaars-2/
LOCATION:Gymzaal Juliana van Stolbergschool\, Waalwijk\, Woeringenlaan 20\, Waalwijk\, Noord-Brabant\, 5144CJ\, Nederland
CATEGORIES:KLANKSESSIE
END:VEVENT
BEGIN:VEVENT
DTSTART;TZID=Europe/Amsterdam:20240324T110000
DTEND;TZID=Europe/Amsterdam:20240324T120000
DTSTAMP:20260425T165711
CREATED:20230726T181044Z
LAST-MODIFIED:20230726T181044Z
UID:5773-1711278000-1711281600@www.laogong.nl
SUMMARY:KLANKONTSPANNING 1e jaars
DESCRIPTION:
URL:https://www.laogong.nl/evenement/klankontspanning-1e-jaars-2/
LOCATION:Gymzaal Juliana van Stolbergschool\, Waalwijk\, Woeringenlaan 20\, Waalwijk\, Noord-Brabant\, 5144CJ\, Nederland
CATEGORIES:KLANKSESSIE
END:VEVENT
BEGIN:VEVENT
DTSTART;TZID=Europe/Amsterdam:20230908T210000
DTEND;TZID=Europe/Amsterdam:20230908T220000
DTSTAMP:20260425T165711
CREATED:20230726T133513Z
LAST-MODIFIED:20230726T133513Z
UID:5725-1694206800-1694210400@www.laogong.nl
SUMMARY:Taichi en Qigong 4e jaars
DESCRIPTION:
URL:https://www.laogong.nl/evenement/taichi-en-qigong-4e-jaars-123/
LOCATION:Gymzaal Juliana van Stolbergschool\, Waalwijk\, Woeringenlaan 20\, Waalwijk\, Noord-Brabant\, 5144CJ\, Nederland
CATEGORIES:TAICHI EN QIGONGLES
END:VEVENT
BEGIN:VEVENT
DTSTART;TZID=Europe/Amsterdam:20230908T200000
DTEND;TZID=Europe/Amsterdam:20230908T210000
DTSTAMP:20260425T165711
CREATED:20230726T132954Z
LAST-MODIFIED:20230726T132954Z
UID:5722-1694203200-1694206800@www.laogong.nl
SUMMARY:Taichi en Qigong 3e jaars
DESCRIPTION:
URL:https://www.laogong.nl/evenement/taichi-en-qigong-3e-jaars-178/
LOCATION:Gymzaal Juliana van Stolbergschool\, Waalwijk\, Woeringenlaan 20\, Waalwijk\, Noord-Brabant\, 5144CJ\, Nederland
CATEGORIES:TAICHI EN QIGONGLES
END:VEVENT
BEGIN:VEVENT
DTSTART;TZID=Europe/Amsterdam:20230920T153000
DTEND;TZID=Europe/Amsterdam:20230920T163000
DTSTAMP:20260425T165711
CREATED:20230726T175159Z
LAST-MODIFIED:20230726T175159Z
UID:5751-1695223800-1695227400@www.laogong.nl
SUMMARY:Taichi en Qigong 2e jaars
DESCRIPTION:
URL:https://www.laogong.nl/evenement/taichi-en-qigong-2e-jaars-325/
LOCATION:Gymzaal Juliana van Stolbergschool\, Waalwijk\, Woeringenlaan 20\, Waalwijk\, Noord-Brabant\, 5144CJ\, Nederland
CATEGORIES:TAICHI EN QIGONGLES
END:VEVENT
BEGIN:VEVENT
DTSTART;TZID=Europe/Amsterdam:20230920T143000
DTEND;TZID=Europe/Amsterdam:20230920T153000
DTSTAMP:20260425T165711
CREATED:20230726T174825Z
LAST-MODIFIED:20230726T174825Z
UID:5748-1695220200-1695223800@www.laogong.nl
SUMMARY:Taichi en Qigong 1e jaars
DESCRIPTION:
URL:https://www.laogong.nl/evenement/taichi-en-qigong-1e-jaars-337/
LOCATION:Gymzaal Juliana van Stolbergschool\, Waalwijk\, Woeringenlaan 20\, Waalwijk\, Noord-Brabant\, 5144CJ\, Nederland
CATEGORIES:TAICHI EN QIGONGLES
END:VEVENT
BEGIN:VEVENT
DTSTART;TZID=Europe/Amsterdam:20230920T133000
DTEND;TZID=Europe/Amsterdam:20230920T143000
DTSTAMP:20260425T165711
CREATED:20230726T174450Z
LAST-MODIFIED:20230726T174450Z
UID:5745-1695216600-1695220200@www.laogong.nl
SUMMARY:Qigong
DESCRIPTION:
URL:https://www.laogong.nl/evenement/qigong-124/
LOCATION:Gymzaal Juliana van Stolbergschool\, Waalwijk\, Woeringenlaan 20\, Waalwijk\, Noord-Brabant\, 5144CJ\, Nederland
CATEGORIES:QIGONGLES
END:VEVENT
BEGIN:VEVENT
DTSTART;TZID=Europe/Amsterdam:20230919T210000
DTEND;TZID=Europe/Amsterdam:20230919T220000
DTSTAMP:20260425T165711
CREATED:20230726T174023Z
LAST-MODIFIED:20230726T174023Z
UID:5742-1695157200-1695160800@www.laogong.nl
SUMMARY:Taichi en Qigong 2e jaars
DESCRIPTION:
URL:https://www.laogong.nl/evenement/taichi-en-qigong-2e-jaars-324/
LOCATION:Gymzaal Juliana van Stolbergschool\, Waalwijk\, Woeringenlaan 20\, Waalwijk\, Noord-Brabant\, 5144CJ\, Nederland
CATEGORIES:TAICHI EN QIGONGLES
END:VEVENT
BEGIN:VEVENT
DTSTART;TZID=Europe/Amsterdam:20230919T200000
DTEND;TZID=Europe/Amsterdam:20230919T210000
DTSTAMP:20260425T165711
CREATED:20230726T173618Z
LAST-MODIFIED:20230726T173618Z
UID:5738-1695153600-1695157200@www.laogong.nl
SUMMARY:Taichi en Qigong 1e jaars
DESCRIPTION:
URL:https://www.laogong.nl/evenement/taichi-en-qigong-1e-jaars-336/
LOCATION:Gymzaal Juliana van Stolbergschool\, Waalwijk\, Woeringenlaan 20\, Waalwijk\, Noord-Brabant\, 5144CJ\, Nederland
CATEGORIES:TAICHI EN QIGONGLES
END:VEVENT
BEGIN:VEVENT
DTSTART;TZID=Europe/Amsterdam:20230919T160000
DTEND;TZID=Europe/Amsterdam:20230919T170000
DTSTAMP:20260425T165711
CREATED:20230726T135622Z
LAST-MODIFIED:20230726T135622Z
UID:5735-1695139200-1695142800@www.laogong.nl
SUMMARY:Taichi en Qigong 3e jaars
DESCRIPTION:
URL:https://www.laogong.nl/evenement/taichi-en-qigong-3e-jaars-179/
LOCATION:Gymzaal Juliana van Stolbergschool\, Waalwijk\, Woeringenlaan 20\, Waalwijk\, Noord-Brabant\, 5144CJ\, Nederland
CATEGORIES:TAICHI EN QIGONGLES
END:VEVENT
BEGIN:VEVENT
DTSTART;TZID=Europe/Amsterdam:20230918T210000
DTEND;TZID=Europe/Amsterdam:20230918T220000
DTSTAMP:20260425T165711
CREATED:20230726T134923Z
LAST-MODIFIED:20230726T134923Z
UID:5731-1695070800-1695074400@www.laogong.nl
SUMMARY:Taichi en Qigong 2e jaars
DESCRIPTION:
URL:https://www.laogong.nl/evenement/taichi-en-qigong-2e-jaars-288/
LOCATION:Gymzaal Juliana van Stolbergschool\, Waalwijk\, Woeringenlaan 20\, Waalwijk\, Noord-Brabant\, 5144CJ\, Nederland
CATEGORIES:TAICHI EN QIGONGLES
END:VEVENT
END:VCALENDAR